data_3000626
loop_
_publ_author_name
'Andrius Merkys'
_journal_name_full               'To be published in MOFs'
_chemical_formula_sum            'C48 B12 O30'
_space_group_name_Hall           '-P 6c 2c'
_space_group_name_H-M_alt        'P 63/m m c'
_cell_angle_alpha                90
_cell_angle_beta                 90
_cell_angle_gamma                120
_cell_length_a                   15.6529
_cell_length_b                   15.6529
_cell_length_c                   6.7005
_cell_volume                     1421.764
_cod_database_code               3000626
_testcod_depositor_requested_release_date 2026-08-18
loop_
_atom_site_label
_atom_site_fract_x
_atom_site_fract_y
_atom_site_fract_z
? ? ? ?
